Workbook

Sheet Lessentabel
A1: Lessentabel 2025-2026 (5-6-2025)
C3: MH1 | G3: HV1 | K3: V1 | O3: V1+ | S3: MH2 | W3: HV2 | AA3: V2 | AE3: V2+ | AI3: M3 | AM3: M4 | AQ3: H3 | AU3: V3 | AY3: V3+ | BC3: G3+ | BG3: H4 | BK3: H5 | BO3: V4 | BS3: V5 | BW3: V6 | CB3: Wensen met betrekking tot de spreiding over het jaar
A4: aardrijkskunde | B4: ak | C4: 2 | D4: 2 | E4: 2 | F4: 2 | G4: 2 | H4: 2 | I4: 2 | J4: 2 | K4: 2 | L4: 2 | M4: 2 | N4: 2 | O4: 2 | P4: 2 | Q4: 2 | R4: 2 | S4: 0 | T4: 2 | U4: 2 | V4: 2 | W4: 2 | X4: 0 | Y4: 2 | Z4: 2 | AA4: 2 | AB4: 2 | AC4: 0 | AD4: 2 | AE4: 2 | AF4: 2 | AG4: 0 | AH4: 2 | AI4: 3 | AJ4: 3 | AK4: 3 | AL4: 3 | AM4: 4 | AN4: 4 | AO4: 4 | AP4: 4 | AQ4: 2 | AR4: 2 | AS4: 2 | AT4: 2 | AU4: 2 | AV4: 2 | AW4: 2 | AX4: 2 | AY4: =2 -> 2 | AZ4: =2 -> 2 | BA4: 2 | BB4: 2 | BC4: =2 -> 2 | BD4: =2 -> 2 | BE4: 2 | BF4: 2 | BG4: 3 | BH4: 3 | BI4: 3 | BJ4: 3 | BK4: 3 | BL4: 3 | BM4: 3 | BN4: 3 | BO4: 2 | BP4: 2 | BQ4: 2 | BR4: 2 | BS4: 3 | BT4: 3 | BU4: 3 | BV4: 3 | BW4: 3 | BX4: 3 | BY4: 3 | BZ4: 3 | CB4: Liefst 1 periode geen ak en andere periodes 2 uur, wel altijd in p4 ak lessen, anders 1-1-2-2
A5: bedrijfseconomie | B5: beco | BG5: 3 | BH5: 3 | BI5: 3 | BJ5: 3 | BK5: 3 | BL5: 3 | BM5: 3 | BN5: 3 | BO5: 2 | BP5: 2 | BQ5: 2 | BR5: 2 | BS5: 3 | BT5: 3 | BU5: 3 | BV5: 3 | BW5: 3 | BX5: 3 | BY5: 3 | BZ5: 3
A6: Bewegen, sport en maatschappij | B6: bsm | BG6: 3 | BH6: 3 | BI6: 3 | BJ6: 3 | BK6: 3 | BL6: 3 | BM6: 3 | BN6: 0 | CA6: Nieuw vak in 5 havo, alleen schoolexamen dus geen uren in p4
A7: biologie | B7: biol | C7: 2 | D7: 2 | E7: 2 | F7: 2 | G7: 2 | H7: 2 | I7: 2 | J7: 2 | K7: 2 | L7: 2 | M7: 2 | N7: 2 | O7: 2 | P7: 2 | Q7: 2 | R7: 2 | S7: 2 | T7: 2 | U7: 2 | V7: 2 | W7: 2 | X7: 2 | Y7: 2 | Z7: 2 | AA7: 2 | AB7: 2 | AC7: 2 | AD7: 2 | AE7: 2 | AF7: 2 | AG7: 2 | AH7: 2 | AI7: 3 | AJ7: 3 | AK7: 3 | AL7: 3 | AM7: 4 | AN7: 4 | AO7: 4 | AP7: 4 | AQ7: 2 | AR7: 1 | AS7: 2 | AT7: 1 | AU7: 2 | AV7: 1 | AW7: 2 | AX7: 1 | AY7: 2 | AZ7: 1 | BA7: 2 | BB7: 1 | BC7: 2 | BD7: 1 | BE7: 2 | BF7: 1 | BG7: 3 | BH7: 3 | BI7: 3 | BJ7: 3 | BK7: 3 | BL7: 3 | BM7: 3 | BN7: 3 | BO7: 3 | BP7: 3 | BQ7: 2 | BR7: 3 | BS7: 3 | BT7: 3 | BU7: 3 | BV7: 3 | BW7: 3 | BX7: 3 | BY7: 3 | BZ7: 3 | CB7: 2-1-2-1
A8: (K)CKV | B8: (k)ckv | AI8: 0 | AJ8: 0 | AK8: 0 | AL8: 0 | BG8: 2 | BH8: 1 | BI8: 2 | BJ8: 2 | BO8: 1 | BP8: 2 | BQ8: 1 | BR8: 2 | CA8: M3: in periodeweek 2, worden taakuren voor gegeven
A9: Duitse taal | B9: dutl | S9: 2 | T9: 2 | U9: 3 | V9: 3 | W9: 2 | X9: 2 | Y9: 3 | Z9: 3 | AA9: 2 | AB9: 2 | AC9: 3 | AD9: 3 | AE9: 2 | AF9: 2 | AG9: 3 | AH9: 3 | AI9: 3 | AJ9: 3 | AK9: 3 | AL9: 3 | AM9: 4 | AN9: 4 | AO9: 4 | AP9: 4 | AQ9: 3 | AR9: 3 | AS9: 2 | AT9: 2 | AU9: 3 | AV9: 3 | AW9: 2 | AX9: 2 | AY9: 3 | AZ9: 3 | BA9: 2 | BB9: 2 | BC9: 2* | BD9: 2* | BE9: 2* | BF9: 2* | BG9: 4 | BH9: 3 | BI9: 4 | BJ9: 4 | BK9: 3 | BL9: 3 | BM9: 3 | BN9: 3 | BO9: 2 | BP9: 3 | BQ9: 3 | BR9: 3 | BS9: 3 | BT9: 3 | BU9: 3 | BV9: 3 | BW9: 3 | BX9: 3 | BY9: 3 | BZ9: 3 | CA9: V3+: nog niet duidelijk of tabel van V3 of G3+ wordt gevolgd, afhankelijk van klassamenstelling | CB9: Wil huidige structuur behouden
A10: economie | B10: eco | S10: 2 | T10: 2 | U10: 2 | V10: 2 | AI10: 3 | AJ10: 3 | AK10: 3 | AL10: 3 | AM10: 4 | AN10: 4 | AO10: 4 | AP10: 4 | AQ10: 2 | AR10: 2 | AS10: 2 | AT10: 2 | AU10: 2 | AV10: 2 | AW10: 2 | AX10: 2 | AY10: 2 | AZ10: 2 | BA10: 2 | BB10: 2 | BC10: 2 | BD10: 2 | BE10: 2 | BF10: 2 | BG10: 4 | BH10: 4 | BI10: 4 | BJ10: 4 | BK10: 3 | BL10: 3 | BM10: 3 | BN10: 3 | BO10: 3 | BP10: 3 | BQ10: 3 | BR10: 3 | BS10: 3 | BT10: 3 | BU10: 3 | BV10: 3 | BW10: 3 | BX10: 3 | BY10: 3 | BZ10: 3
A11: Engelse taal | B11: entl | C11: 3 | D11: 3 | E11: 3 | F11: 3 | G11: 3 | H11: 3 | I11: 3 | J11: 3 | K11: 3 | L11: 3 | M11: 3 | N11: 3 | O11: 3 | P11: 3 | Q11: 3 | R11: 3 | S11: 3 | T11: 3 | U11: 2 | V11: 2 | W11: 3 | X11: 3 | Y11: 2 | Z11: 2 | AA11: 3 | AB11: 3 | AC11: 2 | AD11: 2 | AE11: 2 | AF11: 2 | AG11: 2 | AH11: 2 | AI11: 3 | AJ11: 3 | AK11: 3 | AL11: 3 | AM11: 4 | AN11: 4 | AO11: 4 | AP11: 4 | AQ11: 3 | AR11: 3 | AS11: 3 | AT11: 3 | AU11: 3 | AV11: 3 | AW11: 3 | AX11: 3 | AY11: 2 | AZ11: 2 | BA11: 2 | BB11: 2 | BC11: 2 | BD11: 2 | BE11: 2 | BF11: 2 | BG11: 3 | BH11: 2 | BI11: 3 | BJ11: 3 | BK11: 4 | BL11: 4 | BM11: 4 | BN11: 4 | BO11: 2 | BP11: 3 | BQ11: 3 | BR11: 3 | BS11: 3 | BT11: 3 | BU11: 3 | BV11: 3 | BW11: 3 | BX11: 3 | BY11: 3 | BZ11: 3 | CB11: Wil huidige structuur behouden
A12: versterkt Engels | B12: env | BK12: 2 | BL12: 2 | BM12: 0 | BN12: 0 | BO12: 2 | BP12: 2 | BQ12: 2 | BR12: 2 | BS12: 2 | BT12: 2 | BU12: 2 | BV12: 2 | BW12: 2 | BX12: 2 | BY12: 0 | BZ12: 0 | CA12: Onvoldoende belangstelling
A13: Franse taal | B13: fatl | C13: 3 | D13: 3 | E13: 3 | F13: 3 | G13: 3 | H13: 3 | I13: 3 | J13: 3 | K13: 3 | L13: 3 | M13: 3 | N13: 3 | O13: 3 | P13: 3 | Q13: 3 | R13: 3 | S13: 3 | T13: 2 | U13: 3 | V13: 2 | W13: 3 | X13: 2 | Y13: 3 | Z13: 2 | AA13: 3 | AB13: 2 | AC13: 3 | AD13: 2 | AE13: 2 | AF13: 2 | AG13: 2 | AH13: 2 | AI13: 3 | AJ13: 3 | AK13: 3 | AL13: 3 | AM13: 3 | AN13: 3 | AO13: 3 | AP13: 3 | AQ13: 2 | AR13: 3 | AS13: 2 | AT13: 3 | AU13: 2 | AV13: 3 | AW13: 2 | AX13: 3 | AY13: 2 | AZ13: 3 | BA13: 2 | BB13: 3 | BC13: 2* | BD13: 2* | BE13: 2* | BF13: 2* | BG13: 4 | BH13: 3 | BI13: 4 | BJ13: 4 | BK13: 3 | BL13: 3 | BM13: 3 | BN13: 3 | BO13: 2 | BP13: 3 | BQ13: 3 | BR13: 3 | BS13: 3 | BT13: 3 | BU13: 3 | BV13: 3 | BW13: 3 | BX13: 3 | BY13: 3 | BZ13: 3 | CA13: V3+: nog niet duidelijk of tabel van V3 of G3+ wordt gevolgd, afhankelijk van klassamenstelling | CB13: 2e klas: 2-3-2-3, 3e klas: 3-2-3-2
A14: filosofie | B14: fi | BK14: 3 | BL14: 3 | BM14: 3 | BN14: 3 | BS14: 2 | BT14: 2 | BU14: 2 | BV14: 2 | BW14: 3 | BX14: 3 | BY14: 3 | BZ14: 3 | CA14: V5: prognose is 5 leerlingen, dus 2 uur ipv 3 uur
A15: geschiedenis | B15: ges | C15: 2 | D15: 2 | E15: 2 | F15: 2 | G15: 2 | H15: 2 | I15: 2 | J15: 2 | K15: 2 | L15: 2 | M15: 2 | N15: 2 | O15: 2 | P15: 2 | Q15: 2 | R15: 2 | S15: 2 | T15: 2 | U15: 2 | V15: 2 | W15: 2 | X15: 2 | Y15: 2 | Z15: 2 | AA15: 2 | AB15: 2 | AC15: 2 | AD15: 2 | AE15: 2 | AF15: 2 | AG15: 2 | AH15: 2 | AI15: 3 | AJ15: 3 | AK15: 3 | AL15: 3 | AM15: 4 | AN15: 4 | AO15: 4 | AP15: 4 | AQ15: 2 | AR15: 2 | AS15: 1 | AT15: 1 | AU15: 2 | AV15: 2 | AW15: 1 | AX15: 1 | AY15: 2 | AZ15: 2 | BA15: 1 | BB15: 1 | BC15: 2 | BD15: 2 | BE15: 1 | BF15: 1 | BG15: 3 | BH15: 3 | BI15: 3 | BJ15: 3 | BK15: 3 | BL15: 3 | BM15: 3 | BN15: 3 | BO15: 3 | BP15: 3 | BQ15: 2 | BR15: 3 | BS15: 3 | BT15: 3 | BU15: 3 | BV15: 3 | BW15: 3 | BX15: 3 | BY15: 3 | BZ15: 3 | CB15: Wil huidige structuur behouden
A16: Griekse taal (en cultuur) | B16: grtl/grtc | AE16: 2 | AF16: 2 | AG16: 2 | AH16: 2 | BC16: 3 | BD16: 3 | BE16: 3 | BF16: 3 | BO16: 4 | BP16: 4 | BQ16: 4 | BR16: 4 | BS16: 4 | BT16: 4 | BU16: 4 | BV16: 4 | BW16: 4 | BX16: 4 | BY16: 4 | BZ16: 4 | CA16: V4+V5: gecombineerd les ivm kleine lln-aantallen
A17: informatica | B17: in | BG17: 3 | BH17: 3 | BI17: 3 | BJ17: 3 | BK17: 3 | BL17: 3 | BM17: 3 | BN17: 0 | BO17: 2 | BP17: 2 | BQ17: 2 | BR17: 2 | BS17: 3 | BT17: 3 | BU17: 3 | BV17: 3 | BW17: 3 | BX17: 3 | BY17: 3 | BZ17: 0
A18: klassieke culturele orientatie | B18: kc | O18: 1 | P18: 1 | Q18: 2 | R18: 2 | CB18: 1-1-2-2
A19: kunst algemeen/kunstvakken 1 | B19: kua/kv1 | AI19: 1 | AJ19: 1 | AK19: 1 | AL19: 1 | AM19: 2 | AN19: 2 | AO19: 1 | AP19: 1 | BG19: 1 | BH19: 1 | BI19: 1 | BJ19: 1 | BK19: 1 | BL19: 1 | BM19: 1 | BN19: 1 | BO19: 1 | BP19: 1 | BQ19: 1 | BR19: 1 | BS19: 1 | BT19: 1 | BU19: 1 | BV19: 1 | BW19: 1 | BX19: 1 | BY19: 1 | BZ19: 1 | CA19: M4: in p1 en p2 een extra les ivm uitvallen collega
A20: kunst beeldende vorming/beeldend handvaardigheid | B20: kubv/bha | C20: 0 | D20: 2 | E20: 2 | F20: 2 | G20: 2 | H20: 2 | I20: 0 | J20: 2 | K20: 2 | L20: 0 | M20: 2 | N20: 2 | O20: 2 | P20: 0 | Q20: 2 | R20: 2 | S20: 2 | T20: 0 | U20: 2 | V20: 2 | W20: 0 | X20: 2 | Y20: 2 | Z20: 2 | AA20: 0 | AB20: 2 | AC20: 2 | AD20: 2 | AE20: 0 | AF20: 2 | AG20: 2 | AH20: 2 | AI20: 2 | AJ20: 2 | AK20: 2 | AL20: 2 | AM20: 2 | AN20: 2 | AO20: 2 | AP20: 2 | AQ20: 2* | AR20: 2* | AS20: 2* | AT20: 2* | AU20: 2* | AV20: 2* | AW20: 2* | AX20: 2* | AY20: 2* | AZ20: 2* | BA20: 2* | BB20: 2* | BC20: 2* | BD20: 2* | BE20: 2* | BF20: 2* | BG20: 2 | BH20: 2 | BI20: 2 | BJ20: 2 | BK20: 2 | BL20: 2 | BM20: 2 | BN20: 0 | BO20: 2 | BP20: 2 | BQ20: 2 | BR20: 2 | BS20: 2 | BT20: 2 | BU20: 2 | BV20: 2 | BW20: 2 | BX20: 2 | BY20: 2 | BZ20: 0 | CA20: M4 heeft ook een praktisch centraal examen, dus ook les in p4 | CB20: Liefst 1 periode geen kubv en andere periodes 2 uur
A21: kunst drama | B21: kudr | S21: 2 | T21: 2 | U21: 0 | V21: 0 | W21: 0 | X21: 0 | Y21: 2 | Z21: 2 | AA21: 0 | AB21: 0 | AC21: 2 | AD21: 2 | AE21: 2 | AF21: 2 | AG21: 0 | AH21: 0 | AI21: 2 | AJ21: 2 | AK21: 2 | AL21: 2 | AM21: 3 | AN21: 3 | AO21: 3 | AP21: 3
A22: kunst muziek | B22: kumu | C22: 2 | D22: 2 | E22: 0 | F22: 0 | G22: 0 | H22: 0 | I22: 2 | J22: 2 | K22: 2 | L22: 2 | M22: 0 | N22: 0 | O22: 2 | P22: 2 | Q22: 0 | R22: 0 | S22: 0 | T22: 0 | U22: 2 | V22: 2 | W22: 2 | X22: 2 | Y22: 0 | Z22: 0 | AA22: 2 | AB22: 2 | AC22: 0 | AD22: 0 | AE22: 0 | AF22: 0 | AG22: 2 | AH22: 2 | AQ22: 2* | AR22: 2* | AS22: 2* | AT22: 2* | AU22: 2* | AV22: 2* | AW22: 2* | AX22: 2* | AY22: 2* | AZ22: 2* | BA22: 2* | BB22: 2* | BC22: 2* | BD22: 2* | BE22: 2* | BF22: 2* | CA22: Onvoldoende belangstelling
A23: Latijnse taal (en cultuur) | B23: latl/latc | AE23: 2 | AF23: 2 | AG23: 2 | AH23: 2 | BC23: 3 | BD23: 3 | BE23: 3 | BF23: 3 | BO23: 4 | BP23: 4 | BQ23: 4 | BR23: 4 | BS23: 4 | BT23: 4 | BU23: 4 | BV23: 4 | BW23: 5 | BX23: 5 | BY23: 5 | BZ23: 5
A24: lichamelijke opvoeding | B24: lo | C24: 4 | D24: 4 | E24: 4 | F24: 4 | G24: 4 | H24: 4 | I24: 4 | J24: 4 | K24: 2 | L24: 2 | M24: 4 | N24: 4 | O24: 2 | P24: 2 | Q24: 4 | R24: 4 | S24: 2 | T24: 2 | U24: 2 | V24: 2 | W24: 2 | X24: 2 | Y24: 2 | Z24: 2 | AA24: 2 | AB24: 2 | AC24: 2 | AD24: 2 | AE24: 2 | AF24: 2 | AG24: 2 | AH24: 2 | AI24: 2 | AJ24: 2 | AK24: 4 | AL24: 4 | AM24: 2 | AN24: 2 | AO24: 0 | AP24: 0 | AQ24: 2 | AR24: 2 | AS24: 2 | AT24: 2 | AU24: 2 | AV24: 2 | AW24: 2 | AX24: 2 | AY24: 2 | AZ24: 2 | BA24: 2 | BB24: 2 | BC24: 2 | BD24: 2 | BE24: 2 | BF24: 2 | BG24: 2 | BH24: 2 | BI24: 2 | BJ24: 2 | BK24: 2 | BL24: 2 | BM24: 0 | BN24: 0 | BO24: 2 | BP24: 2 | BQ24: 2 | BR24: 2 | BS24: 2 | BT24: 2 | BU24: 2 | BV24: 2 | BW24: 2 | BX24: 2 | BY24: 0 | BZ24: 0 | CB24: Liefst 2-2-4-4
A25: maatschappijleer | B25: maat | AM25: 2 | AN25: 2 | AO25: 2 | AP25: 0 | BG25: 0 | BH25: 0 | BI25: 0 | BJ25: 2 | BK25: 2 | BL25: 2 | BM25: 2 | BN25: 0 | BO25: 0 | BP25: 0 | BQ25: 1 | BR25: 0 | BS25: 2 | BT25: 2 | BU25: 1 | BV25: 2
A26: mentoruur | B26: mtr | C26: 2 | D26: 2 | E26: 2 | F26: 2 | G26: 2 | H26: 2 | I26: 2 | J26: 2 | K26: 2 | L26: 2 | M26: 2 | N26: 2 | O26: 2 | P26: 2 | Q26: 2 | R26: 2 | S26: 2 | T26: 2 | U26: 2 | V26: 2 | W26: 2 | X26: 2 | Y26: 2 | Z26: 2 | AA26: 2 | AB26: 2 | AC26: 2 | AD26: 2 | AE26: 2 | AF26: 2 | AG26: 2 | AH26: 2 | AI26: 1 | AJ26: 1 | AK26: 1 | AL26: 1 | AM26: 1 | AN26: 1 | AO26: 1 | AP26: 1 | AQ26: 2 | AR26: 2 | AS26: 2 | AT26: 1 | AU26: 2 | AV26: 2 | AW26: 2 | AX26: 1 | AY26: 2 | AZ26: 2 | BA26: 2 | BB26: 1 | BC26: 2 | BD26: 2 | BE26: 2 | BF26: 1 | BG26: 1 | BH26: 1 | BI26: 1 | BJ26: 1 | BK26: 1 | BL26: 1 | BM26: 1 | BN26: 1 | BO26: 1 | BP26: 1 | BQ26: 1 | BR26: 1 | BS26: 1 | BT26: 1 | BU26: 1 | BV26: 1 | BW26: 1 | BX26: 1 | BY26: 1 | BZ26: 1
A27: natuurkunde/ns1 | B27: na | AI27: 3 | AJ27: 3 | AK27: 3 | AL27: 3 | AM27: 3 | AN27: 3 | AO27: 3 | AP27: 3 | AQ27: 2 | AR27: 2 | AS27: 2 | AT27: 2 | AU27: 2 | AV27: 2 | AW27: 2 | AX27: 2 | AY27: 2 | AZ27: 2 | BA27: 2 | BB27: 2 | BC27: 2 | BD27: 2 | BE27: 2 | BF27: 2 | BG27: 3 | BH27: 3 | BI27: 3 | BJ27: 3 | BK27: 4 | BL27: 4 | BM27: 4 | BN27: 4 | BO27: 3 | BP27: 3 | BQ27: 3 | BR27: 3 | BS27: 3 | BT27: 3 | BU27: 3 | BV27: 3 | BW27: 3 | BX27: 3 | BY27: 3 | BZ27: 3
A28: Nederlandse taal | B28: netl | C28: 3 | D28: 3 | E28: 3 | F28: 3 | G28: 3 | H28: 3 | I28: 3 | J28: 3 | K28: 3 | L28: 3 | M28: 3 | N28: 3 | O28: 3 | P28: 3 | Q28: 3 | R28: 3 | S28: 3 | T28: 3 | U28: 3 | V28: 3 | W28: 3 | X28: 3 | Y28: 3 | Z28: 3 | AA28: 3 | AB28: 3 | AC28: 3 | AD28: 3 | AE28: 2 | AF28: 2 | AG28: 2 | AH28: 2 | AI28: 4 | AJ28: 4 | AK28: 4 | AL28: 4 | AM28: 4 | AN28: 4 | AO28: 4 | AP28: 4 | AQ28: 3 | AR28: 3 | AS28: 3 | AT28: 3 | AU28: 3 | AV28: 3 | AW28: 3 | AX28: 3 | AY28: 2 | AZ28: 2 | BA28: 2 | BB28: 2 | BC28: 2 | BD28: 2 | BE28: 2 | BF28: 2 | BG28: 4 | BH28: 3 | BI28: 4 | BJ28: 4 | BK28: 4 | BL28: 4 | BM28: 4 | BN28: 4 | BO28: 2 | BP28: 3 | BQ28: 2 | BR28: 3 | BS28: 3 | BT28: 3 | BU28: 3 | BV28: 3 | BW28: 3 | BX28: 3 | BY28: 3 | BZ28: 3
A29: Rekenvaardigheid (voor lln zonder wis) | B29: rkt | AI29: 1 | AJ29: 1 | AK29: 1 | AL29: 1 | AM29: 1 | AN29: 1 | AO29: 1 | AP29: 1 | BG29: 1 | BH29: 1 | BI29: 1 | BJ29: 1 | CA29: M3+M4 samenvoegen (totaal 24 lln)
A30: scheikunde/ns2 | B30: schk | AI30: 3 | AJ30: 3 | AK30: 3 | AL30: 3 | AM30: 3 | AN30: 3 | AO30: 3 | AQ30: 2 | AR30: 2 | AS30: 2 | AT30: 2 | AU30: 2 | AV30: 2 | AW30: 2 | AX30: 2 | AY30: 2 | AZ30: 2 | BA30: 2 | BB30: 2 | BC30: 2 | BD30: 2 | BE30: 2 | BF30: 2 | BG30: 3 | BH30: 3 | BI30: 3 | BJ30: 3 | BK30: 3 | BL30: 3 | BM30: 3 | BN30: 3 | BO30: 2 | BP30: 2 | BQ30: 2 | BR30: 2 | BS30: 3 | BT30: 3 | BU30: 3 | BV30: 3 | BW30: 3 | BX30: 3 | BY30: 3 | BZ30: 3 | CA30: M4: begin schooljaar een extra les ivm uitvallen collega
A31: Spaans-elementair | B31: sp-e | BG31: 3 | BH31: 3 | BI31: 3 | BJ31: 3 | BK31: 3 | BL31: 3 | BM31: 3 | BN31: 0 | BO31: 3 | BP31: 3 | BQ31: 3 | BR31: 3 | BS31: 3 | BT31: 3 | BU31: 3 | BV31: 3 | BW31: 3 | BX31: 3 | BY31: 3 | BZ31: 0
A32: Spaanse taal | B32: sptl | CA32: Onvoldoende belangstelling
A33: science | B33: sci | S33: 2 | T33: 2 | U33: 2 | V33: 2 | W33: 2 | X33: 2 | Y33: 2 | Z33: 2 | AA33: 2 | AB33: 2 | AC33: 2 | AD33: 2 | AE33: 2 | AF33: 2 | AG33: 2 | AH33: 2
A34: wiskunde | B34: wi | C34: 4 | D34: 4 | E34: 4 | F34: 4 | G34: 4 | H34: 4 | I34: 4 | J34: 4 | K34: 4 | L34: 4 | M34: 4 | N34: 4 | O34: 3 | P34: 3 | Q34: 3 | R34: 3 | S34: 3 | T34: 3 | U34: 3 | V34: 3 | W34: 3 | X34: 3 | Y34: 3 | Z34: 3 | AA34: 3 | AB34: 3 | AC34: 3 | AD34: 3 | AE34: 3 | AF34: 3 | AG34: 3 | AH34: 3 | AI34: 3 | AJ34: 3 | AK34: 3 | AL34: 3 | AM34: 4 | AN34: 4 | AO34: 4 | AP34: 4 | AQ34: 3 | AR34: 3 | AS34: 3 | AT34: 3 | AU34: 3 | AV34: 3 | AW34: 3 | AX34: 3 | AY34: 3 | AZ34: 3 | BA34: 3 | BB34: 3 | BC34: 3 | BD34: 3 | BE34: 3 | BF34: 3 | CA34: Extra les wiskunde in de eerste klas gefinancierd uit NPO wordt structureel
A35: wiskunde A | B35: wisA | BG35: 3 | BH35: 3 | BI35: 3 | BJ35: 3 | BK35: 4 | BL35: 4 | BM35: 4 | BN35: 4 | BO35: 3 | BP35: 3 | BQ35: 3 | BR35: 3 | BS35: 4 | BT35: 4 | BU35: 4 | BV35: 4 | BW35: 3 | BX35: 3 | BY35: 3 | BZ35: 3
A36: wiskunde B | B36: wisB | BG36: 4 | BH36: 4 | BI36: 4 | BJ36: 4 | BK36: 4 | BL36: 4 | BM36: 4 | BN36: 4 | BO36: 3 | BP36: 3 | BQ36: 3 | BR36: 3 | BS36: 4 | BT36: 4 | BU36: 4 | BV36: 4 | BW36: 4 | BX36: 4 | BY36: 4 | BZ36: 4
A37: wiskunde C | B37: wisC | BS37: 0 | BT37: 0 | BU37: 2 | BV37: 2 | BW37: 2 | BX37: 2 | BY37: 2 | BZ37: 2 | CA37: Eind V4 gaan lln kiezen tussen WisA en WisC. Afhankelijk van de groepsgrootte worden lessen gecombineerd (vanaf P3 in V5) en/of wordt deels de studiebegeleiding ingezet
A38: wiskunde D | B38: wisD | BK38: 3 | BL38: 3 | BM38: 3 | BN38: 0 | BS38: 3 | BT38: 3 | BU38: 3 | BV38: 3 | BW38: 2 | BX38: 2 | BY38: 2 | BZ38: 0 | CA38: Onvoldoende belangstelling H5 en V5 gecombineerd les (uitgezonderd p4), was 2 uur per week en is gelijkgetrokken met havo
A39: Modules | B39: mod | O39: 2 | P39: 2 | Q39: 2 | R39: 2 | AE39: 2 | AF39: 2 | AG39: 2 | AH39: 2
A40: Pluslessen | B40: plus | O40: 1 | P40: 1 | Q40: 1 | R40: 1 | AY40: 2 | AZ40: 2 | BA40: 2 | BB40: 2 | BC40: 2 | BD40: 2 | BE40: 2 | BF40: 2
A41: Basisvaardigheden | B41: basis | C41: 1 | D41: 1 | E41: 1 | F41: 1 | G41: 1 | H41: 1 | I41: 1 | J41: 1 | K41: 1 | L41: 1 | M41: 1 | N41: 1 | O41: 1 | P41: 1 | Q41: 1 | R41: 1 | CA41: In klas 1 de eerste periode digitale geletterdheid
...

Sheet Verkorte lessentabel
A1: Verkorte lessentabel (voor publicatie)
C3: =Lessentabel!C3 -> MH1 | D3: =Lessentabel!G3 -> HV1 | E3: =Lessentabel!K3 -> V1 | F3: =Lessentabel!O3 -> V1+ | G3: =Lessentabel!S3 -> MH2 | H3: HV2 | I3: V2 | J3: =Lessentabel!AE3 -> V2+ | K3: =Lessentabel!AI3 -> M3 | L3: =Lessentabel!AM3 -> M4 | M3: =Lessentabel!AQ3 -> H3 | N3: =Lessentabel!AU3 -> V3 | O3: =Lessentabel!AY3 -> V3+ | P3: =Lessentabel!BC3 -> G3+ | Q3: =Lessentabel!BG3 -> H4 | R3: =Lessentabel!BK3 -> H5 | S3: =Lessentabel!BO3 -> V4 | T3: =Lessentabel!BS3 -> V5 | U3: =Lessentabel!BW3 -> V6
A4: =Lessentabel!A4 -> aardrijkskunde | B4: =Lessentabel!B4 -> ak | C4: =AVERAGE(Lessentabel!C4:F4) -> 2 | D4: =AVERAGE(Lessentabel!G4:J4) -> 2 | E4: =AVERAGE(Lessentabel!K4:N4) -> 2 | F4: =AVERAGE(Lessentabel!O4:R4) -> 2 | G4: =AVERAGE(Lessentabel!S4:V4) -> 1.5 | H4: =AVERAGE(Lessentabel!W4:Z4) -> 1.5 | I4: =AVERAGE(Lessentabel!AA4:AD4) -> 1.5 | J4: =AVERAGE(Lessentabel!AE4:AH4) -> 1.5 | K4: =AVERAGE(Lessentabel!AI4:AL4) -> 3 | L4: =AVERAGE(Lessentabel!AM4:AP4) -> 4 | M4: =AVERAGE(Lessentabel!AQ4:AT4) -> 2 | N4: =AVERAGE(Lessentabel!AU4:AX4) -> 2 | O4: =AVERAGE(Lessentabel!AY4:BB4) -> 2 | P4: =AVERAGE(Lessentabel!BC4:BF4) -> 2 | Q4: =AVERAGE(Lessentabel!BG4:BJ4) -> 3 | R4: =AVERAGE(Lessentabel!BK4:BN4) -> 3 | S4: =AVERAGE(Lessentabel!BO4:BR4) -> 2 | T4: =AVERAGE(Lessentabel!BS4:BV4) -> 3 | U4: =AVERAGE(Lessentabel!BW4:BZ4) -> 3
A5: =Lessentabel!A5 -> bedrijfseconomie | B5: =Lessentabel!B5 -> beco | Q5: =AVERAGE(Lessentabel!BG5:BJ5) -> 3 | R5: =AVERAGE(Lessentabel!BK5:BN5) -> 3 | S5: =AVERAGE(Lessentabel!BO5:BR5) -> 2 | T5: =AVERAGE(Lessentabel!BS5:BV5) -> 3 | U5: =AVERAGE(Lessentabel!BW5:BZ5) -> 3
A6: =Lessentabel!A6 -> Bewegen, sport en maatschappij | B6: =Lessentabel!B6 -> bsm | Q6: =AVERAGE(Lessentabel!BG6:BJ6) -> 3 | R6: =AVERAGE(Lessentabel!BK6:BN6) -> 2.25
A7: =Lessentabel!A7 -> biologie | B7: =Lessentabel!B7 -> biol | C7: =AVERAGE(Lessentabel!C7:F7) -> 2 | D7: =AVERAGE(Lessentabel!G7:J7) -> 2 | E7: =AVERAGE(Lessentabel!K7:N7) -> 2 | F7: =AVERAGE(Lessentabel!O7:R7) -> 2 | G7: =AVERAGE(Lessentabel!S7:V7) -> 2 | H7: =AVERAGE(Lessentabel!W7:Z7) -> 2 | I7: =AVERAGE(Lessentabel!AA7:AD7) -> 2 | J7: =AVERAGE(Lessentabel!AE7:AH7) -> 2 | K7: =AVERAGE(Lessentabel!AI7:AL7) -> 3 | L7: =AVERAGE(Lessentabel!AM7:AP7) -> 4 | M7: =AVERAGE(Lessentabel!AQ7:AT7) -> 1.5 | N7: =AVERAGE(Lessentabel!AU7:AX7) -> 1.5 | O7: =AVERAGE(Lessentabel!AY7:BB7) -> 1.5 | P7: =AVERAGE(Lessentabel!BC7:BF7) -> 1.5 | Q7: =AVERAGE(Lessentabel!BG7:BJ7) -> 3 | R7: =AVERAGE(Lessentabel!BK7:BN7) -> 3 | S7: =AVERAGE(Lessentabel!BO7:BR7) -> 2.75 | T7: =AVERAGE(Lessentabel!BS7:BV7) -> 3 | U7: =AVERAGE(Lessentabel!BW7:BZ7) -> 3
A8: =Lessentabel!A8 -> (K)CKV | B8: =Lessentabel!B8 -> (k)ckv | K8: =AVERAGE(Lessentabel!AI8:AL8) -> 0 | Q8: =AVERAGE(Lessentabel!BG8:BJ8) -> 1.75 | S8: =AVERAGE(Lessentabel!BO8:BR8) -> 1.5
A9: =Lessentabel!A9 -> Duitse taal | B9: =Lessentabel!B9 -> dutl | G9: =AVERAGE(Lessentabel!S9:V9) -> 2.5 | H9: =AVERAGE(Lessentabel!W9:Z9) -> 2.5 | I9: =AVERAGE(Lessentabel!AA9:AD9) -> 2.5 | J9: =AVERAGE(Lessentabel!AE9:AH9) -> 2.5 | K9: =AVERAGE(Lessentabel!AI9:AL9) -> 3 | L9: =AVERAGE(Lessentabel!AM9:AP9) -> 4 | M9: =AVERAGE(Lessentabel!AQ9:AT9) -> 2.5 | N9: =AVERAGE(Lessentabel!AU9:AX9) -> 2.5 | O9: =AVERAGE(Lessentabel!AY9:BB9) -> 2.5 | P9: 2,5* | Q9: =AVERAGE(Lessentabel!BG9:BJ9) -> 3.75 | R9: =AVERAGE(Lessentabel!BK9:BN9) -> 3 | S9: =AVERAGE(Lessentabel!BO9:BR9) -> 2.75 | T9: =AVERAGE(Lessentabel!BS9:BV9) -> 3 | U9: =AVERAGE(Lessentabel!BW9:BZ9) -> 3
A10: =Lessentabel!A10 -> economie | B10: =Lessentabel!B10 -> eco | G10: =AVERAGE(Lessentabel!S10:V10) -> 2 | K10: =AVERAGE(Lessentabel!AI10:AL10) -> 3 | L10: =AVERAGE(Lessentabel!AM10:AP10) -> 4 | M10: =AVERAGE(Lessentabel!AQ10:AT10) -> 2 | N10: =AVERAGE(Lessentabel!AU10:AX10) -> 2 | O10: =AVERAGE(Lessentabel!AY10:BB10) -> 2 | P10: =AVERAGE(Lessentabel!BC10:BF10) -> 2 | Q10: =AVERAGE(Lessentabel!BG10:BJ10) -> 4 | R10: =AVERAGE(Lessentabel!BK10:BN10) -> 3 | S10: =AVERAGE(Lessentabel!BO10:BR10) -> 3 | T10: =AVERAGE(Lessentabel!BS10:BV10) -> 3 | U10: =AVERAGE(Lessentabel!BW10:BZ10) -> 3
A11: =Lessentabel!A11 -> Engelse taal | B11: =Lessentabel!B11 -> entl | C11: =AVERAGE(Lessentabel!C11:F11) -> 3 | D11: =AVERAGE(Lessentabel!G11:J11) -> 3 | E11: =AVERAGE(Lessentabel!K11:N11) -> 3 | F11: =AVERAGE(Lessentabel!O11:R11) -> 3 | G11: =AVERAGE(Lessentabel!S11:V11) -> 2.5 | H11: =AVERAGE(Lessentabel!W11:Z11) -> 2.5 | I11: =AVERAGE(Lessentabel!AA11:AD11) -> 2.5 | J11: =AVERAGE(Lessentabel!AE11:AH11) -> 2 | K11: =AVERAGE(Lessentabel!AI11:AL11) -> 3 | L11: =AVERAGE(Lessentabel!AM11:AP11) -> 4 | M11: =AVERAGE(Lessentabel!AQ11:AT11) -> 3 | N11: =AVERAGE(Lessentabel!AU11:AX11) -> 3 | O11: =AVERAGE(Lessentabel!AY11:BB11) -> 2 | P11: =AVERAGE(Lessentabel!BC11:BF11) -> 2 | Q11: =AVERAGE(Lessentabel!BG11:BJ11) -> 2.75 | R11: =AVERAGE(Lessentabel!BK11:BN11) -> 4 | S11: =AVERAGE(Lessentabel!BO11:BR11) -> 2.75 | T11: =AVERAGE(Lessentabel!BS11:BV11) -> 3 | U11: =AVERAGE(Lessentabel!BW11:BZ11) -> 3
A12: =Lessentabel!A12 -> versterkt Engels | B12: =Lessentabel!B12 -> env | R12: =AVERAGE(Lessentabel!BK12:BN12) -> 1 | S12: =AVERAGE(Lessentabel!BO12:BR12) -> 2 | T12: =AVERAGE(Lessentabel!BS12:BV12) -> 2 | U12: =AVERAGE(Lessentabel!BW12:BZ12) -> 1
A13: =Lessentabel!A13 -> Franse taal | B13: =Lessentabel!B13 -> fatl | C13: =AVERAGE(Lessentabel!C13:F13) -> 3 | D13: =AVERAGE(Lessentabel!G13:J13) -> 3 | E13: =AVERAGE(Lessentabel!K13:N13) -> 3 | F13: =AVERAGE(Lessentabel!O13:R13) -> 3 | G13: =AVERAGE(Lessentabel!S13:V13) -> 2.5 | H13: =AVERAGE(Lessentabel!W13:Z13) -> 2.5 | I13: =AVERAGE(Lessentabel!AA13:AD13) -> 2.5 | J13: =AVERAGE(Lessentabel!AE13:AH13) -> 2 | K13: =AVERAGE(Lessentabel!AI13:AL13) -> 3 | L13: 4 | M13: =AVERAGE(Lessentabel!AQ13:AT13) -> 2.5 | N13: =AVERAGE(Lessentabel!AU13:AX13) -> 2.5 | O13: =AVERAGE(Lessentabel!AY13:BB13) -> 2.5 | P13: 2,5* | Q13: =AVERAGE(Lessentabel!BG13:BJ13) -> 3.75 | R13: =AVERAGE(Lessentabel!BK13:BN13) -> 3 | S13: =AVERAGE(Lessentabel!BO13:BR13) -> 2.75 | T13: =AVERAGE(Lessentabel!BS13:BV13) -> 3 | U13: =AVERAGE(Lessentabel!BW13:BZ13) -> 3
A14: =Lessentabel!A14 -> filosofie | B14: =Lessentabel!B14 -> fi | R14: =AVERAGE(Lessentabel!BK14:BN14) -> 3 | T14: =AVERAGE(Lessentabel!BS14:BV14) -> 2 | U14: =AVERAGE(Lessentabel!BW14:BZ14) -> 3
A15: =Lessentabel!A15 -> geschiedenis | B15: =Lessentabel!B15 -> ges | C15: =AVERAGE(Lessentabel!C15:F15) -> 2 | D15: =AVERAGE(Lessentabel!G15:J15) -> 2 | E15: =AVERAGE(Lessentabel!K15:N15) -> 2 | F15: =AVERAGE(Lessentabel!O15:R15) -> 2 | G15: =AVERAGE(Lessentabel!S15:V15) -> 2 | H15: =AVERAGE(Lessentabel!W15:Z15) -> 2 | I15: =AVERAGE(Lessentabel!AA15:AD15) -> 2 | J15: =AVERAGE(Lessentabel!AE15:AH15) -> 2 | K15: =AVERAGE(Lessentabel!AI15:AL15) -> 3 | L15: =AVERAGE(Lessentabel!AM15:AP15) -> 4 | M15: =AVERAGE(Lessentabel!AQ15:AT15) -> 1.5 | N15: =AVERAGE(Lessentabel!AU15:AX15) -> 1.5 | O15: =AVERAGE(Lessentabel!AY15:BB15) -> 1.5 | P15: =AVERAGE(Lessentabel!BC15:BF15) -> 1.5 | Q15: =AVERAGE(Lessentabel!BG15:BJ15) -> 3 | R15: =AVERAGE(Lessentabel!BK15:BN15) -> 3 | S15: =AVERAGE(Lessentabel!BO15:BR15) -> 2.75 | T15: =AVERAGE(Lessentabel!BS15:BV15) -> 3 | U15: =AVERAGE(Lessentabel!BW15:BZ15) -> 3
A16: =Lessentabel!A16 -> Griekse taal (en cultuur) | B16: =Lessentabel!B16 -> grtl/grtc | J16: =AVERAGE(Lessentabel!AE16:AH16) -> 2 | P16: =AVERAGE(Lessentabel!BC16:BF16) -> 3 | S16: =AVERAGE(Lessentabel!BO16:BR16) -> 4 | T16: =AVERAGE(Lessentabel!BS16:BV16) -> 4 | U16: =AVERAGE(Lessentabel!BW16:BZ16) -> 4
A17: =Lessentabel!A17 -> informatica | B17: =Lessentabel!B17 -> in | Q17: =AVERAGE(Lessentabel!BG17:BJ17) -> 3 | R17: =AVERAGE(Lessentabel!BK17:BN17) -> 2.25 | S17: =AVERAGE(Lessentabel!BO17:BR17) -> 2 | T17: =AVERAGE(Lessentabel!BS17:BV17) -> 3 | U17: =AVERAGE(Lessentabel!BW17:BZ17) -> 2.25
A18: =Lessentabel!A18 -> klassieke culturele orientatie | B18: =Lessentabel!B18 -> kc | F18: =AVERAGE(Lessentabel!O18:R18) -> 1.5
A19: =Lessentabel!A19 -> kunst algemeen/kunstvakken 1 | B19: =Lessentabel!B19 -> kua/kv1 | K19: =AVERAGE(Lessentabel!AI19:AL19) -> 1 | L19: =AVERAGE(Lessentabel!AM19:AP19) -> 1.5 | Q19: =AVERAGE(Lessentabel!BG19:BJ19) -> 1 | R19: =AVERAGE(Lessentabel!BK19:BN19) -> 1 | S19: =AVERAGE(Lessentabel!BO19:BR19) -> 1 | T19: =AVERAGE(Lessentabel!BS19:BV19) -> 1 | U19: =AVERAGE(Lessentabel!BW19:BZ19) -> 1
A20: =Lessentabel!A20 -> kunst beeldende vorming/beeldend handvaardigheid | B20: =Lessentabel!B20 -> kubv/bha | C20: =AVERAGE(Lessentabel!C20:F20) -> 1.5 | D20: =AVERAGE(Lessentabel!G20:J20) -> 1.5 | E20: =AVERAGE(Lessentabel!K20:N20) -> 1.5 | F20: =AVERAGE(Lessentabel!O20:R20) -> 1.5 | G20: =AVERAGE(Lessentabel!S20:V20) -> 1.5 | H20: =AVERAGE(Lessentabel!W20:Z20) -> 1.5 | I20: =AVERAGE(Lessentabel!AA20:AD20) -> 1.5 | J20: =AVERAGE(Lessentabel!AE20:AH20) -> 1.5 | K20: =AVERAGE(Lessentabel!AI20:AL20) -> 2 | L20: =AVERAGE(Lessentabel!AM20:AP20) -> 2 | M20: 2* | N20: 2* | O20: 2* | P20: 2* | Q20: =AVERAGE(Lessentabel!BG20:BJ20) -> 2 | R20: =AVERAGE(Lessentabel!BK20:BN20) -> 1.5 | S20: =AVERAGE(Lessentabel!BO20:BR20) -> 2 | T20: =AVERAGE(Lessentabel!BS20:BV20) -> 2 | U20: =AVERAGE(Lessentabel!BW20:BZ20) -> 1.5
A21: =Lessentabel!A21 -> kunst drama | B21: =Lessentabel!B21 -> kudr | G21: =AVERAGE(Lessentabel!S21:V21) -> 1 | H21: =AVERAGE(Lessentabel!W21:Z21) -> 1 | I21: =AVERAGE(Lessentabel!AA21:AD21) -> 1 | J21: =AVERAGE(Lessentabel!AE21:AH21) -> 1 | K21: =AVERAGE(Lessentabel!AI21:AL21) -> 2 | L21: =AVERAGE(Lessentabel!AM21:AP21) -> 3
A22: =Lessentabel!A22 -> kunst muziek | B22: =Lessentabel!B22 -> kumu | C22: =AVERAGE(Lessentabel!C22:F22) -> 1 | D22: =AVERAGE(Lessentabel!G22:J22) -> 1 | E22: =AVERAGE(Lessentabel!K22:N22) -> 1 | F22: =AVERAGE(Lessentabel!O22:R22) -> 1 | G22: =AVERAGE(Lessentabel!S22:V22) -> 1 | H22: =AVERAGE(Lessentabel!W22:Z22) -> 1 | I22: =AVERAGE(Lessentabel!AA22:AD22) -> 1 | J22: =AVERAGE(Lessentabel!AE22:AH22) -> 1 | M22: 2* | N22: 2* | O22: 2* | P22: 2*
A23: =Lessentabel!A23 -> Latijnse taal (en cultuur) | B23: =Lessentabel!B23 -> latl/latc | J23: =AVERAGE(Lessentabel!AE23:AH23) -> 2 | P23: =AVERAGE(Lessentabel!BC23:BF23) -> 3 | S23: =AVERAGE(Lessentabel!BO23:BR23) -> 4 | T23: =AVERAGE(Lessentabel!BS23:BV23) -> 4 | U23: =AVERAGE(Lessentabel!BW23:BZ23) -> 5
A24: =Lessentabel!A24 -> lichamelijke opvoeding | B24: =Lessentabel!B24 -> lo | C24: =AVERAGE(Lessentabel!C24:F24) -> 4 | D24: =AVERAGE(Lessentabel!G24:J24) -> 4 | E24: =AVERAGE(Lessentabel!K24:N24) -> 3 | F24: =AVERAGE(Lessentabel!O24:R24) -> 3 | G24: =AVERAGE(Lessentabel!S24:V24) -> 2 | H24: =AVERAGE(Lessentabel!W24:Z24) -> 2 | I24: =AVERAGE(Lessentabel!AA24:AD24) -> 2 | J24: =AVERAGE(Lessentabel!AE24:AH24) -> 2 | K24: =AVERAGE(Lessentabel!AI24:AL24) -> 3 | L24: =AVERAGE(Lessentabel!AM24:AP24) -> 1 | M24: =AVERAGE(Lessentabel!AQ24:AT24) -> 2 | N24: =AVERAGE(Lessentabel!AU24:AX24) -> 2 | O24: =AVERAGE(Lessentabel!AY24:BB24) -> 2 | P24: =AVERAGE(Lessentabel!BC24:BF24) -> 2 | Q24: =AVERAGE(Lessentabel!BG24:BJ24) -> 2 | R24: =AVERAGE(Lessentabel!BK24:BN24) -> 1 | S24: =AVERAGE(Lessentabel!BO24:BR24) -> 2 | T24: =AVERAGE(Lessentabel!BS24:BV24) -> 2 | U24: =AVERAGE(Lessentabel!BW24:BZ24) -> 1
A25: =Lessentabel!A25 -> maatschappijleer | B25: =Lessentabel!B25 -> maat | L25: =AVERAGE(Lessentabel!AM25:AP25) -> 1.5 | Q25: =AVERAGE(Lessentabel!BG25:BJ25) -> 0.5 | R25: =AVERAGE(Lessentabel!BK25:BN25) -> 1.5 | S25: =AVERAGE(Lessentabel!BO25:BR25) -> 0.25 | T25: =AVERAGE(Lessentabel!BS25:BV25) -> 1.75
A26: =Lessentabel!A26 -> mentoruur | B26: =Lessentabel!B26 -> mtr | C26: =AVERAGE(Lessentabel!C26:F26) -> 2 | D26: =AVERAGE(Lessentabel!G26:J26) -> 2 | E26: =AVERAGE(Lessentabel!K26:N26) -> 2 | F26: =AVERAGE(Lessentabel!O26:R26) -> 2 | G26: =AVERAGE(Lessentabel!S26:V26) -> 2 | H26: =AVERAGE(Lessentabel!W26:Z26) -> 2 | I26: =AVERAGE(Lessentabel!AA26:AD26) -> 2 | J26: =AVERAGE(Lessentabel!AE26:AH26) -> 2 | K26: =AVERAGE(Lessentabel!AI26:AL26) -> 1 | L26: =AVERAGE(Lessentabel!AM26:AP26) -> 1 | M26: =AVERAGE(Lessentabel!AQ26:AT26) -> 1.75 | N26: =AVERAGE(Lessentabel!AU26:AX26) -> 1.75 | O26: =AVERAGE(Lessentabel!AY26:BB26) -> 1.75 | P26: =AVERAGE(Lessentabel!BC26:BF26) -> 1.75 | Q26: =AVERAGE(Lessentabel!BG26:BJ26) -> 1 | R26: =AVERAGE(Lessentabel!BK26:BN26) -> 1 | S26: =AVERAGE(Lessentabel!BO26:BR26) -> 1 | T26: =AVERAGE(Lessentabel!BS26:BV26) -> 1 | U26: =AVERAGE(Lessentabel!BW26:BZ26) -> 1
A27: =Lessentabel!A27 -> natuurkunde/ns1 | B27: =Lessentabel!B27 -> na | K27: =AVERAGE(Lessentabel!AI27:AL27) -> 3 | L27: =AVERAGE(Lessentabel!AM27:AP27) -> 3 | M27: =AVERAGE(Lessentabel!AQ27:AT27) -> 2 | N27: =AVERAGE(Lessentabel!AU27:AX27) -> 2 | O27: =AVERAGE(Lessentabel!AY27:BB27) -> 2 | P27: =AVERAGE(Lessentabel!BC27:BF27) -> 2 | Q27: =AVERAGE(Lessentabel!BG27:BJ27) -> 3 | R27: =AVERAGE(Lessentabel!BK27:BN27) -> 4 | S27: =AVERAGE(Lessentabel!BO27:BR27) -> 3 | T27: =AVERAGE(Lessentabel!BS27:BV27) -> 3 | U27: =AVERAGE(Lessentabel!BW27:BZ27) -> 3
A28: =Lessentabel!A28 -> Nederlandse taal | B28: =Lessentabel!B28 -> netl | C28: =AVERAGE(Lessentabel!C28:F28) -> 3 | D28: =AVERAGE(Lessentabel!G28:J28) -> 3 | E28: =AVERAGE(Lessentabel!K28:N28) -> 3 | F28: =AVERAGE(Lessentabel!O28:R28) -> 3 | G28: =AVERAGE(Lessentabel!S28:V28) -> 3 | H28: =AVERAGE(Lessentabel!W28:Z28) -> 3 | I28: =AVERAGE(Lessentabel!AA28:AD28) -> 3 | J28: =AVERAGE(Lessentabel!AE28:AH28) -> 2 | K28: =AVERAGE(Lessentabel!AI28:AL28) -> 4 | L28: =AVERAGE(Lessentabel!AM28:AP28) -> 4 | M28: =AVERAGE(Lessentabel!AQ28:AT28) -> 3 | N28: =AVERAGE(Lessentabel!AU28:AX28) -> 3 | O28: =AVERAGE(Lessentabel!AY28:BB28) -> 2 | P28: =AVERAGE(Lessentabel!BC28:BF28) -> 2 | Q28: =AVERAGE(Lessentabel!BG28:BJ28) -> 3.75 | R28: =AVERAGE(Lessentabel!BK28:BN28) -> 4 | S28: =AVERAGE(Lessentabel!BO28:BR28) -> 2.5 | T28: =AVERAGE(Lessentabel!BS28:BV28) -> 3 | U28: =AVERAGE(Lessentabel!BW28:BZ28) -> 3
A29: =Lessentabel!A29 -> Rekenvaardigheid (voor lln zonder wis) | B29: =Lessentabel!B29 -> rkt | K29: =AVERAGE(Lessentabel!AI29:AL29) -> 1 | L29: =AVERAGE(Lessentabel!AM29:AP29) -> 1 | Q29: =AVERAGE(Lessentabel!BG29:BJ29) -> 1
A30: =Lessentabel!A30 -> scheikunde/ns2 | B30: =Lessentabel!B30 -> schk | K30: =AVERAGE(Lessentabel!AI30:AL30) -> 3 | L30: =AVERAGE(Lessentabel!AM30:AP30) -> 3 | M30: =AVERAGE(Lessentabel!AQ30:AT30) -> 2 | N30: =AVERAGE(Lessentabel!AU30:AX30) -> 2 | O30: =AVERAGE(Lessentabel!AY30:BB30) -> 2 | P30: =AVERAGE(Lessentabel!BC30:BF30) -> 2 | Q30: =AVERAGE(Lessentabel!BG30:BJ30) -> 3 | R30: =AVERAGE(Lessentabel!BK30:BN30) -> 3 | S30: =AVERAGE(Lessentabel!BO30:BR30) -> 2 | T30: =AVERAGE(Lessentabel!BS30:BV30) -> 3 | U30: =AVERAGE(Lessentabel!BW30:BZ30) -> 3
A31: =Lessentabel!A31 -> Spaans-elementair | B31: =Lessentabel!B31 -> sp-e | Q31: =AVERAGE(Lessentabel!BG31:BJ31) -> 3 | R31: =AVERAGE(Lessentabel!BK31:BN31) -> 2.25 | S31: =AVERAGE(Lessentabel!BO31:BR31) -> 3 | T31: =AVERAGE(Lessentabel!BS31:BV31) -> 3 | U31: =AVERAGE(Lessentabel!BW31:BZ31) -> 2.25
A32: =Lessentabel!A32 -> Spaanse taal | B32: =Lessentabel!B32 -> sptl
A33: =Lessentabel!A33 -> science | B33: =Lessentabel!B33 -> sci | G33: =AVERAGE(Lessentabel!S33:V33) -> 2 | H33: =AVERAGE(Lessentabel!W33:Z33) -> 2 | I33: =AVERAGE(Lessentabel!AA33:AD33) -> 2 | J33: =AVERAGE(Lessentabel!AE33:AH33) -> 2
A34: =Lessentabel!A34 -> wiskunde | B34: =Lessentabel!B34 -> wi | C34: =AVERAGE(Lessentabel!C34:F34) -> 4 | D34: =AVERAGE(Lessentabel!G34:J34) -> 4 | E34: =AVERAGE(Lessentabel!K34:N34) -> 4 | F34: =AVERAGE(Lessentabel!O34:R34) -> 3 | G34: =AVERAGE(Lessentabel!S34:V34) -> 3 | H34: =AVERAGE(Lessentabel!W34:Z34) -> 3 | I34: =AVERAGE(Lessentabel!AA34:AD34) -> 3 | J34: =AVERAGE(Lessentabel!AE34:AH34) -> 3 | K34: =AVERAGE(Lessentabel!AI34:AL34) -> 3 | L34: =AVERAGE(Lessentabel!AM34:AP34) -> 4 | M34: =AVERAGE(Lessentabel!AQ34:AT34) -> 3 | N34: =AVERAGE(Lessentabel!AU34:AX34) -> 3 | O34: =AVERAGE(Lessentabel!AY34:BB34) -> 3 | P34: =AVERAGE(Lessentabel!BC34:BF34) -> 3
A35: =Lessentabel!A35 -> wiskunde A | B35: =Lessentabel!B35 -> wisA | Q35: =AVERAGE(Lessentabel!BG35:BJ35) -> 3 | R35: =AVERAGE(Lessentabel!BK35:BN35) -> 4 | S35: =AVERAGE(Lessentabel!BO35:BR35) -> 3 | T35: =AVERAGE(Lessentabel!BS35:BV35) -> 4 | U35: =AVERAGE(Lessentabel!BW35:BZ35) -> 3
A36: =Lessentabel!A36 -> wiskunde B | B36: =Lessentabel!B36 -> wisB | Q36: =AVERAGE(Lessentabel!BG36:BJ36) -> 4 | R36: =AVERAGE(Lessentabel!BK36:BN36) -> 4 | S36: =AVERAGE(Lessentabel!BO36:BR36) -> 3 | T36: =AVERAGE(Lessentabel!BS36:BV36) -> 4 | U36: =AVERAGE(Lessentabel!BW36:BZ36) -> 4
A37: =Lessentabel!A37 -> wiskunde C | B37: =Lessentabel!B37 -> wisC | T37: =AVERAGE(Lessentabel!BS37:BV37) -> 1 | U37: =AVERAGE(Lessentabel!BW37:BZ37) -> 2
A38: =Lessentabel!A38 -> wiskunde D | B38: =Lessentabel!B38 -> wisD | R38: =AVERAGE(Lessentabel!BK38:BN38) -> 2.25 | T38: =AVERAGE(Lessentabel!BS38:BV38) -> 3 | U38: =AVERAGE(Lessentabel!BW38:BZ38) -> 1.5
A39: =Lessentabel!A39 -> Modules | B39: =Lessentabel!B39 -> mod | F39: =AVERAGE(Lessentabel!O39:R39) -> 2 | J39: =AVERAGE(Lessentabel!AE39:AH39) -> 2
A40: =Lessentabel!A40 -> Pluslessen | B40: =Lessentabel!B40 -> plus | F40: =AVERAGE(Lessentabel!O40:R40) -> 1 | O40: =AVERAGE(Lessentabel!AY40:BB40) -> 2 | P40: =AVERAGE(Lessentabel!BC40:BF40) -> 2
A41: =Lessentabel!A41 -> Basisvaardigheden | B41: =Lessentabel!B41 -> basis | C41: =AVERAGE(Lessentabel!C41:F41) -> 1 | D41: =AVERAGE(Lessentabel!G41:J41) -> 1 | E41: =AVERAGE(Lessentabel!K41:N41) -> 1 | F41: =AVERAGE(Lessentabel!O41:R41) -> 1
...
